BEGIN:VCALENDAR
VERSION:2.0
PRODID:-//Tukios.com/
BEGIN:VEVENT
UID:c04d952e-3868-429b-a79b-de28fd776ad8@www.kolbusmayfh.com
DTSTAMP:20260423T022650Z
DTSTART:20260424
SUMMARY:Interment
DESCRIPTION:
URL:https://www.kolbusmayfh.com/obituaries/john-cotter-jr
LOCATION: 8600 N Milwaukee Ave 8600 Niles IL 60714
GEO:42.0375042;-87.8242318
END:VEVENT
END:VCALENDAR