BEGIN:VCALENDAR
VERSION:2.0
PRODID:-//Tukios.com/
BEGIN:VEVENT
UID:6a39a78e-41b6-48f5-8fb9-a0a1c7610755@www.kolbusmayfh.com
DTSTAMP:20260423T022845Z
DTSTART:20260424T140000Z
DTEND:20260424T150000Z
SUMMARY:Visitation
DESCRIPTION:
URL:https://www.kolbusmayfh.com/obituaries/john-cotter-jr
LOCATION:Kolbus-John V. May Funeral Home 6857 West Higgins Avenue  
	Chicago IL 60656
GEO:41.9792382;-87.799445
END:VEVENT
END:VCALENDAR