BEGIN:VCALENDAR
VERSION:2.0
PRODID:-//Tukios.com/
BEGIN:VEVENT
UID:81367413-8e5d-4c06-b311-a5121882eeac@www.kolbusmayfh.com
DTSTAMP:20260423T022940Z
DTSTART:20260424T153000Z
DTEND:20260424T163000Z
SUMMARY:Mass of Christian Burial
DESCRIPTION:
URL:https://www.kolbusmayfh.com/obituaries/john-cotter-jr
LOCATION:St. Pascal Church 3935 North Melvina Avenue  Chicago IL 60634
GEO:41.9522776;-87.7812361
END:VEVENT
END:VCALENDAR